BEGIN:VCALENDAR
VERSION:2.0
PRODID:-//Naperville Township Democrats - ECPv6.15.17//NONSGML v1.0//EN
CALSCALE:GREGORIAN
METHOD:PUBLISH
X-ORIGINAL-URL:https://napervilledemocrats.org/ntdo
X-WR-CALDESC:Events for Naperville Township Democrats
REFRESH-INTERVAL;VALUE=DURATION:PT1H
X-Robots-Tag:noindex
X-PUBLISHED-TTL:PT1H
BEGIN:VTIMEZONE
TZID:America/Chicago
BEGIN:DAYLIGHT
TZOFFSETFROM:-0600
TZOFFSETTO:-0500
TZNAME:CDT
DTSTART:20250309T080000
END:DAYLIGHT
BEGIN:STANDARD
TZOFFSETFROM:-0500
TZOFFSETTO:-0600
TZNAME:CST
DTSTART:20251102T070000
END:STANDARD
BEGIN:DAYLIGHT
TZOFFSETFROM:-0600
TZOFFSETTO:-0500
TZNAME:CDT
DTSTART:20260308T080000
END:DAYLIGHT
BEGIN:STANDARD
TZOFFSETFROM:-0500
TZOFFSETTO:-0600
TZNAME:CST
DTSTART:20261101T070000
END:STANDARD
BEGIN:DAYLIGHT
TZOFFSETFROM:-0600
TZOFFSETTO:-0500
TZNAME:CDT
DTSTART:20270314T080000
END:DAYLIGHT
BEGIN:STANDARD
TZOFFSETFROM:-0500
TZOFFSETTO:-0600
TZNAME:CST
DTSTART:20271107T070000
END:STANDARD
END:VTIMEZONE
BEGIN:VEVENT
DTSTART;TZID=America/Chicago:20260430T190000
DTEND;TZID=America/Chicago:20260430T203000
DTSTAMP:20260422T061056
CREATED:20260118T154338Z
LAST-MODIFIED:20260228T041959Z
UID:13595-1777575600-1777581000@napervilledemocrats.org
SUMMARY:April 2026 Monthly Meeting
DESCRIPTION:We Welcome all Democrats.\nYou are invited to attend our Thursday\, April 30\, 2026 meeting at 7 pm.\nLocation: \nNaperville Municipal Center \n400 S Eagle Street\, Naperville IL \nLower Level \nWe encourage everyone to attend in person. If you cannot be there\, Zoom registration is given below –\nhttps://us02web.zoom.us/meeting/register/qor_grOzRHCS4iaUNTDfXw
URL:https://napervilledemocrats.org/ntdo/event/april-2026-monthly-meeting/
LOCATION:Naperville Municipal Center\, 400 S. Eagle St \, Naperville\, 60540\, United States
CATEGORIES:Monthly Meetings
ORGANIZER;CN="Naperville Township Democrats":MAILTO:chair@napervilledemocrats.org
END:VEVENT
BEGIN:VEVENT
DTSTART;TZID=America/Chicago:20260528T190000
DTEND;TZID=America/Chicago:20260528T203000
DTSTAMP:20260422T061056
CREATED:20260118T154437Z
LAST-MODIFIED:20260118T154437Z
UID:13597-1779994800-1780000200@napervilledemocrats.org
SUMMARY:May 2026 Monthly Meeting
DESCRIPTION:
URL:https://napervilledemocrats.org/ntdo/event/may-2026-monthly-meeting/
CATEGORIES:Monthly Meetings
END:VEVENT
BEGIN:VEVENT
DTSTART;TZID=America/Chicago:20260625T190000
DTEND;TZID=America/Chicago:20260625T190000
DTSTAMP:20260422T061056
CREATED:20260118T154513Z
LAST-MODIFIED:20260118T154722Z
UID:13599-1782414000-1782414000@napervilledemocrats.org
SUMMARY:June 2026 Monthly Meeting
DESCRIPTION:
URL:https://napervilledemocrats.org/ntdo/event/june-2026-monthly-meeting/
CATEGORIES:Monthly Meetings
END:VEVENT
BEGIN:VEVENT
DTSTART;TZID=America/Chicago:20260730T190000
DTEND;TZID=America/Chicago:20260730T190000
DTSTAMP:20260422T061056
CREATED:20260118T154600Z
LAST-MODIFIED:20260118T154645Z
UID:13601-1785438000-1785438000@napervilledemocrats.org
SUMMARY:July 2026 Monthly Meeting
DESCRIPTION:
URL:https://napervilledemocrats.org/ntdo/event/july-2026-monthly-meeting/
CATEGORIES:Monthly Meetings
END:VEVENT
BEGIN:VEVENT
DTSTART;TZID=America/Chicago:20260827T190000
DTEND;TZID=America/Chicago:20260827T190000
DTSTAMP:20260422T061056
CREATED:20260118T154826Z
LAST-MODIFIED:20260118T154837Z
UID:13603-1787857200-1787857200@napervilledemocrats.org
SUMMARY:August 2026 Monthly Meeting
DESCRIPTION:
URL:https://napervilledemocrats.org/ntdo/event/august-2026-monthly-meeting/
CATEGORIES:Monthly Meetings
END:VEVENT
BEGIN:VEVENT
DTSTART;TZID=America/Chicago:20260924T190000
DTEND;TZID=America/Chicago:20260924T203000
DTSTAMP:20260422T061056
CREATED:20260118T154926Z
LAST-MODIFIED:20260118T154926Z
UID:13605-1790276400-1790281800@napervilledemocrats.org
SUMMARY:September 2026 Monthly Meeting
DESCRIPTION:
URL:https://napervilledemocrats.org/ntdo/event/september-2026-monthly-meeting/
CATEGORIES:Monthly Meetings
END:VEVENT
BEGIN:VEVENT
DTSTART;TZID=America/Chicago:20261029T190000
DTEND;TZID=America/Chicago:20261029T203000
DTSTAMP:20260422T061056
CREATED:20260118T155024Z
LAST-MODIFIED:20260118T155024Z
UID:13607-1793300400-1793305800@napervilledemocrats.org
SUMMARY:October 2026 Monthly Meeting
DESCRIPTION:
URL:https://napervilledemocrats.org/ntdo/event/october-2026-monthly-meeting/
CATEGORIES:Monthly Meetings
END:VEVENT
BEGIN:VEVENT
DTSTART;TZID=America/Chicago:20261119T190000
DTEND;TZID=America/Chicago:20261119T203000
DTSTAMP:20260422T061056
CREATED:20260118T155113Z
LAST-MODIFIED:20260118T155113Z
UID:13609-1795114800-1795120200@napervilledemocrats.org
SUMMARY:November 2026 Monthly Meeting
DESCRIPTION:
URL:https://napervilledemocrats.org/ntdo/event/november-2026-monthly-meeting/
CATEGORIES:Monthly Meetings
END:VEVENT
END:VCALENDAR