BEGIN:VCALENDAR
VERSION:2.0
PRODID:-//Naperville Township Democrats - ECPv6.15.17//NONSGML v1.0//EN
CALSCALE:GREGORIAN
METHOD:PUBLISH
X-ORIGINAL-URL:https://napervilledemocrats.org/ntdo
X-WR-CALDESC:Events for Naperville Township Democrats
REFRESH-INTERVAL;VALUE=DURATION:PT1H
X-Robots-Tag:noindex
X-PUBLISHED-TTL:PT1H
BEGIN:VTIMEZONE
TZID:UTC
BEGIN:STANDARD
TZOFFSETFROM:+0000
TZOFFSETTO:+0000
TZNAME:UTC
DTSTART:20210101T000000
END:STANDARD
END:VTIMEZONE
BEGIN:VTIMEZONE
TZID:America/Chicago
BEGIN:DAYLIGHT
TZOFFSETFROM:-0600
TZOFFSETTO:-0500
TZNAME:CDT
DTSTART:20200308T080000
END:DAYLIGHT
BEGIN:STANDARD
TZOFFSETFROM:-0500
TZOFFSETTO:-0600
TZNAME:CST
DTSTART:20201101T070000
END:STANDARD
BEGIN:DAYLIGHT
TZOFFSETFROM:-0600
TZOFFSETTO:-0500
TZNAME:CDT
DTSTART:20210314T080000
END:DAYLIGHT
BEGIN:STANDARD
TZOFFSETFROM:-0500
TZOFFSETTO:-0600
TZNAME:CST
DTSTART:20211107T070000
END:STANDARD
BEGIN:DAYLIGHT
TZOFFSETFROM:-0600
TZOFFSETTO:-0500
TZNAME:CDT
DTSTART:20220313T080000
END:DAYLIGHT
BEGIN:STANDARD
TZOFFSETFROM:-0500
TZOFFSETTO:-0600
TZNAME:CST
DTSTART:20221106T070000
END:STANDARD
BEGIN:DAYLIGHT
TZOFFSETFROM:-0600
TZOFFSETTO:-0500
TZNAME:CDT
DTSTART:20230312T080000
END:DAYLIGHT
BEGIN:STANDARD
TZOFFSETFROM:-0500
TZOFFSETTO:-0600
TZNAME:CST
DTSTART:20231105T070000
END:STANDARD
END:VTIMEZONE
BEGIN:VTIMEZONE
TZID:America/New_York
BEGIN:DAYLIGHT
TZOFFSETFROM:-0500
TZOFFSETTO:-0400
TZNAME:EDT
DTSTART:20190310T070000
END:DAYLIGHT
BEGIN:STANDARD
TZOFFSETFROM:-0400
TZOFFSETTO:-0500
TZNAME:EST
DTSTART:20191103T060000
END:STANDARD
BEGIN:DAYLIGHT
TZOFFSETFROM:-0500
TZOFFSETTO:-0400
TZNAME:EDT
DTSTART:20200308T070000
END:DAYLIGHT
BEGIN:STANDARD
TZOFFSETFROM:-0400
TZOFFSETTO:-0500
TZNAME:EST
DTSTART:20201101T060000
END:STANDARD
BEGIN:DAYLIGHT
TZOFFSETFROM:-0500
TZOFFSETTO:-0400
TZNAME:EDT
DTSTART:20210314T070000
END:DAYLIGHT
BEGIN:STANDARD
TZOFFSETFROM:-0400
TZOFFSETTO:-0500
TZNAME:EST
DTSTART:20211107T060000
END:STANDARD
END:VTIMEZONE
BEGIN:VEVENT
DTSTART;TZID=UTC:20230126T190000
DTEND;TZID=UTC:20230126T203000
DTSTAMP:20260422T085931
CREATED:20230124T090118Z
LAST-MODIFIED:20230124T090741Z
UID:12663-1674759600-1674765000@napervilledemocrats.org
SUMMARY:January Monthly Meeting
DESCRIPTION:We Welcome all Democrats.\nYou are invited to attend our Thursday\, January 26th General Meeting at 7 pm.\nNaperville Municipal Center\, 400 S Eagle St\, Naperville IL \nIf you are unable to attend in person\, register here for Zoom:\nhttps://us02web.zoom.us/meeting/register/tZMscu-vqjwpHdyjhSuKpQuuDXB4ybCkEi9e \n  \nNTD General Meeting Agenda - Jan 26th\, 2023REV\n\n\n 
URL:https://napervilledemocrats.org/ntdo/event/january-monthly-meeting/
LOCATION:400 S Eagle Street\, Naperville\, IL\, 400 S Eagle Street\, Naperville\, IL\, United States
CATEGORIES:Monthly Meetings
END:VEVENT
BEGIN:VEVENT
DTSTART;TZID=UTC:20220825T190000
DTEND;TZID=UTC:20220825T203000
DTSTAMP:20260422T085931
CREATED:20220819T053934Z
LAST-MODIFIED:20220824T181321Z
UID:12554-1661454000-1661459400@napervilledemocrats.org
SUMMARY:August Meeting
DESCRIPTION:We Welcome all Democrats.\nYou are invited to attend our Thursday\, August 25\, 2022 meeting at 7 pm.\n \nNaperville Municipal Center \n400 S Eagle Street\, Naperville IL \nLunch Room\, Lower Level \nWe encourage everyone to attend in person. If you cannot be there\, Zoom registration is here.\nNTD General Meeting Agenda - Aug 25th\, 2022 Final 3\n  \n 
URL:https://napervilledemocrats.org/ntdo/event/august-meeting-2/
LOCATION:400 S Eagle Street\, Naperville\, IL\, 400 S Eagle Street\, Naperville\, IL\, United States
CATEGORIES:Monthly Meetings
END:VEVENT
BEGIN:VEVENT
DTSTART;TZID=UTC:20220728T190000
DTEND;TZID=UTC:20220728T203000
DTSTAMP:20260422T085931
CREATED:20220723T210109Z
LAST-MODIFIED:20220727T152434Z
UID:12516-1659034800-1659040200@napervilledemocrats.org
SUMMARY:July Meeting
DESCRIPTION:We Welcome all Democrats.\nYou are invited to attend our Thursday\, July 28\, 2022 meeting at 7 pm.\n \nNaperville Municipal Center \n400 S Eagle Street\, Naperville IL \nLunch Room\, Lower Level \n \nWe encourage everyone to attend. If you cannot be there\, Zoom registration is here.\n_NTD General Meeting Agenda - July 28th\, 2022 Final.docx (1)\n 
URL:https://napervilledemocrats.org/ntdo/event/july-meeting/
LOCATION:Naperville Municipal Center\, 400 S Eagle Street\, Naperville\, IL\, United States
CATEGORIES:Monthly Meetings
END:VEVENT
BEGIN:VEVENT
DTSTART;TZID=UTC:20220526T190000
DTEND;TZID=UTC:20220526T203000
DTSTAMP:20260422T085931
CREATED:20220522T213533Z
LAST-MODIFIED:20220522T213538Z
UID:12347-1653591600-1653597000@napervilledemocrats.org
SUMMARY:May 2022 Meeting
DESCRIPTION:We Welcome all Democrats.\nYou are invited to attend our May 2022 meeting. 7 – 8:30 pm.\n \nNaperville Municipal Center \n400 S Eagle Street\, Naperville IL \nMeeting Room A – Lower Level\nWe encourage everyone to attend. If you cannot be there\, register to attend via zoom here.\n 
URL:https://napervilledemocrats.org/ntdo/event/may-2022-meeting/
LOCATION:Naperville Municipal Center\, 400 S. Eagle St \, Naperville\, 60540\, United States
CATEGORIES:Monthly Meetings
ORGANIZER;CN="Naperville Township Democrats":MAILTO:chair@napervilledemocrats.org
END:VEVENT
BEGIN:VEVENT
DTSTART;TZID=America/Chicago:20220428T190000
DTEND;TZID=America/Chicago:20220428T203000
DTSTAMP:20260422T085931
CREATED:20220331T235128Z
LAST-MODIFIED:20220427T021519Z
UID:12131-1651172400-1651177800@napervilledemocrats.org
SUMMARY:April 2022 Meeting
DESCRIPTION:We Welcome all Democrats.\nYou are invited to attend our **Welcome Back / In-Person / Monthly Meeting**\, the first after a 2-year hiatus. Meet and greet NTD members\, guest speakers\, and other Democrats. 7 – 8:30 pm.\n \nNaperville Municipal Center \n400 S Eagle Street\, Naperville IL \nMeeting Room A – Lower Level\nWe encourage everyone to attend. If you cannot be there\, register to attend via zoom here.\nNTD General Meeting Agenda - April 28th\, 2022 Final3\n 
URL:https://napervilledemocrats.org/ntdo/event/april-2022-meeting/
LOCATION:Naperville Municipal Center\, 400 S Eagle Street\, Naperville\, IL
CATEGORIES:Monthly Meetings
ORGANIZER;CN="Naperville Township Democrats":MAILTO:chair@napervilledemocrats.org
END:VEVENT
BEGIN:VEVENT
DTSTART;TZID=America/Chicago:20210729T190000
DTEND;TZID=America/Chicago:20210729T203000
DTSTAMP:20260422T085931
CREATED:20210625T005910Z
LAST-MODIFIED:20210725T230250Z
UID:11471-1627585200-1627590600@napervilledemocrats.org
SUMMARY:July 2021 Meeting
DESCRIPTION:We Welcome all Democrats.\nZoom\nPre-Register Here\nAfter registering\, you will receive a confirmation email containing information about joining the meeting.\nJuly 29th 2021 NTD General Monthly Meeting Agenda -Final
URL:https://napervilledemocrats.org/ntdo/event/11471/
LOCATION:Online Zoom
CATEGORIES:Monthly Meetings
ORGANIZER;CN="Naperville Township Democrats":MAILTO:chair@napervilledemocrats.org
END:VEVENT
BEGIN:VEVENT
DTSTART;TZID=America/Chicago:20210225T190000
DTEND;TZID=America/Chicago:20210225T203000
DTSTAMP:20260422T085931
CREATED:20210217T022546Z
LAST-MODIFIED:20210224T160429Z
UID:11307-1614279600-1614285000@napervilledemocrats.org
SUMMARY:February 2021 Meeting
DESCRIPTION:We Welcome all Democrats.\nNaperville Township Democrats Monthly Meeting Registration February and March 2021\nZoom\nPre-Register Here\nAfter registering\, you will receive a confirmation email containing information about joining the meeting. (Note that this is a new meeting\, you will need to register again.)\nFeb-25th-2021-NTD-General-Monthly-Meeting-Agenda-REV-Final
URL:https://napervilledemocrats.org/ntdo/event/february-2021-meeting/
LOCATION:Online Zoom
CATEGORIES:Monthly Meetings
ORGANIZER;CN="Naperville Township Democrats":MAILTO:chair@napervilledemocrats.org
END:VEVENT
BEGIN:VEVENT
DTSTART;TZID=America/Chicago:20210128T190000
DTEND;TZID=America/Chicago:20210128T203000
DTSTAMP:20260422T085931
CREATED:20210112T015313Z
LAST-MODIFIED:20210124T221034Z
UID:11090-1611860400-1611865800@napervilledemocrats.org
SUMMARY:January 2021 Monthly Meeting
DESCRIPTION:We Welcome all Democrats.\nZoom\nPre-Register Here\nAfter registering\, you will receive a confirmation email containing information about joining the meeting. (Note that this is a new meeting\, you will need to register again.)\nWe will be meet candidates for the upcoming municipal election\, discuss the outcomes of the November election\, and hear reports on local government. Full agenda to follow. \n\nDownload (DOCX\, 50KB)
URL:https://napervilledemocrats.org/ntdo/event/january-2021-monthly-meeting/
LOCATION:Online Zoom
CATEGORIES:Monthly Meetings
ORGANIZER;CN="Naperville Township Democrats":MAILTO:chair@napervilledemocrats.org
END:VEVENT
BEGIN:VEVENT
DTSTART;TZID=America/New_York:20200730T190000
DTEND;TZID=America/New_York:20200730T203000
DTSTAMP:20260422T085931
CREATED:20191201T004651Z
LAST-MODIFIED:20200629T002332Z
UID:9898-1596135600-1596141000@napervilledemocrats.org
SUMMARY:July 2020 Monthly Meeting
DESCRIPTION:We welcome all Democrats.\n  \nJoin us for our July meeting. Planned topics TBD.\nThis meeting will be over Zoom. Register in advance for this meeting here.\nAfter registering\, you will receive a confirmation email containing information about joining the meeting.\n  \n \nAgenda to come.
URL:https://napervilledemocrats.org/ntdo/event/monthly-2020-07/
LOCATION:Online Zoom
CATEGORIES:Monthly Meetings
END:VEVENT
END:VCALENDAR